BEGIN:VCALENDAR
VERSION:2.0
PRODID:-//Services Unama - ECPv6.8.2.1//NONSGML v1.0//EN
CALSCALE:GREGORIAN
METHOD:PUBLISH
X-WR-CALNAME:Services Unama
X-ORIGINAL-URL:https://services.unama.org
X-WR-CALDESC:Évènements pour Services Unama
REFRESH-INTERVAL;VALUE=DURATION:PT1H
X-Robots-Tag:noindex
X-PUBLISHED-TTL:PT1H
BEGIN:VTIMEZONE
TZID:Europe/Paris
BEGIN:DAYLIGHT
TZOFFSETFROM:+0100
TZOFFSETTO:+0200
TZNAME:CEST
DTSTART:20250330T010000
END:DAYLIGHT
BEGIN:STANDARD
TZOFFSETFROM:+0200
TZOFFSETTO:+0100
TZNAME:CET
DTSTART:20251026T010000
END:STANDARD
END:VTIMEZONE
BEGIN:VEVENT
DTSTART;VALUE=DATE:20250620
DTEND;VALUE=DATE:20250623
DTSTAMP:20260424T023923
CREATED:20250523T100217Z
LAST-MODIFIED:20250523T101035Z
UID:5938-1750377600-1750636799@services.unama.org
SUMMARY:Les Journées de l'Artisanat des métiers et de l'ameublement 2025
DESCRIPTION:Les Journées de l’Artisanat des Métiers de l’Ameublement se déroulent du 20 au 22 juin à Escolives-Sainte-Camille\, en Bourgogne. Elles réunissent les artisans pour mieux se fédérer et co-construire l’avenir de la profession. \nCette année\, notre thématique phare est « du dessin à l’entreprise connectée » \nEn savoir plus
URL:https://services.unama.org/agenda/les-journees-de-lartisanat-des-metiers-et-de-lameublement-2025/
LOCATION:Escolives-Sainte-Camille\, Bourgogne\, France
CATEGORIES:AG
ATTACH;FMTTYPE=image/jpeg:https://services.unama.org/wp-content/uploads/Visuel-Blog-FAD_JAMA-2025.jpg
END:VEVENT
END:VCALENDAR